BEGIN:VCALENDAR
VERSION:2.0
PRODID:-//Vrije Universiteit Amsterdam//NONSGML v1.0//EN
NAME:In Gesprek: dialoogsessie VU-gemeenschap #2
METHOD:PUBLISH
BEGIN:VEVENT
DTSTART:20260210T000000
DTEND:20260210T235900
DTSTAMP:20260210T000000
UID:2026/in-gesprek-dialoogsessie-@8F96275E-9F55-4B3F-A143-836282E12573
CREATED:20260424T043815
LOCATION:
SUMMARY:In Gesprek: dialoogsessie VU-gemeenschap #2
X-ALT-DESC;FMTTYPE=text/html: <html> <body> <p>Aan de VU willen we mee
 r ruimte maken voor échte gesprekken over thema’s als oorlog & vre
 de, academische vrijheid en ons welzijn als gemeenschap? Schuif aan e
 n praat mee tijdens de tweede VU-brede dialoog ‘In Gesprek’ op 10
  februari 2026.</p> <p><em>In Gesprek</em> is een jaarlange dialoogre
 eks om ruimte te maken voor open en respectvolle gesprekken binnen on
 ze VU-gemeenschap. We denken samen na over hoe we aan de VU omgaan me
 t maatschappelijke spanningen, verschillen van inzicht en de zoektoch
 t naar verbinding.&nbsp;</p><p>Deze reeks is onderdeel van een <a hre
 f="https://www.rijksoverheid.nl/documenten/brieven/2025/05/30/verklar
 ing-rectoren-academische-vrijheid-websites-universiteiten" data-new-w
 indow="true" title="Verklaring academische vrijheid" target="_blank" 
 rel="noopener noreferrer">breder traject van Nederlandse universiteit
 en om de dialoog over academische vrijheid te versterken</a>. Aan de 
 VU geven we daar op deze manier eigen invulling aan.</p><p><a href="h
 ttps://forms.office.com/pages/responsepage.aspx?id=nJwqRqYt-0uzGA-DBD
 _kmw4vqwig6ztGl_r3OuvdBCRUOVdLTDFPMTJHMVdTTVlaUFQyN0ZOMEtINC4u&amp;ro
 ute=shorturl" data-new-window="true" title="In Gesprek aanmelden" tar
 get="_blank" rel="noopener noreferrer">Meld je hier aan voor de tweed
 e dialoogbijeenkomst!</a></p><h3>Wat kun je verwachten?</h3><p>Een op
 en en veilige bijeenkomst waarin iedereen binnen de VU welkom: studen
 ten, docenten, onderzoekers en ondersteuners. Jij, als deelnemer, bep
 aalt de thema’s waar we over in gesprek gaan. Je hoeft niets voor t
 e bereiden. Samen ontdekken we wat ons bezighoudt en waar het gesprek
  naartoe gaat.</p><p>Je kunt het volgende verwachten:</p><ul>  <li>Ru
 imte om met elkaar in gesprek te gaan over wat jou bezighoudt.</li>  
 <li>Gespreksgroepen onder begeleiding van ervaren dialoogfacilitatore
 n.</li>  <li>Ontmoeting tussen studenten en medewerkers van verschill
 ende faculteiten, diensten en achtergronden.</li>  <li>Een gezamenlij
 ke terugkoppeling van inzichten, zonder naamsvermelding of oordeel.</
 li></ul><p>Thema’s die in eerdere sessie naar voren zijn gekomen:</
 p><ul>  <li>Courage in Education</li>  <li>Academic Freedom and the m
 yth of political neutrality</li>  <li>Diversity &amp; Inclusion in Ed
 ucation en Research + Safety &amp; Accessibility</li>  <li>Safety on 
 Campus, police presence</li>  <li>Dialogue Mistrust in Science</li>  
 <li>Connection, Alienation &amp; Isolation</li></ul><h3>Doe mee&nbsp;
 </h3><p>Jouw perspectief doet er toe. Of je nu student bent, onderzoe
 ker, docent of medewerker, samen zorgen we dat alle verhalen gehoord 
 worden.</p> </body> </html>
DESCRIPTION: <em>In Gesprek</em> is een jaarlange dialoogreeks om ruim
 te te maken voor open en respectvolle gesprekken binnen onze VU-gemee
 nschap. We denken samen na over hoe we aan de VU omgaan met maatschap
 pelijke spanningen, verschillen van inzicht en de zoektocht naar verb
 inding.&nbsp; Deze reeks is onderdeel van een <a href="https://www.ri
 jksoverheid.nl/documenten/brieven/2025/05/30/verklaring-rectoren-acad
 emische-vrijheid-websites-universiteiten" data-new-window="true" titl
 e="Verklaring academische vrijheid" target="_blank" rel="noopener nor
 eferrer">breder traject van Nederlandse universiteiten om de dialoog 
 over academische vrijheid te versterken</a>. Aan de VU geven we daar 
 op deze manier eigen invulling aan. <a href="https://forms.office.com
 /pages/responsepage.aspx?id=nJwqRqYt-0uzGA-DBD_kmw4vqwig6ztGl_r3OuvdB
 CRUOVdLTDFPMTJHMVdTTVlaUFQyN0ZOMEtINC4u&amp;route=shorturl" data-new-
 window="true" title="In Gesprek aanmelden" target="_blank" rel="noope
 ner noreferrer">Meld je hier aan voor de tweede dialoogbijeenkomst!</
 a> <h3>Wat kun je verwachten?</h3> Een open en veilige bijeenkomst wa
 arin iedereen binnen de VU welkom: studenten, docenten, onderzoekers 
 en ondersteuners. Jij, als deelnemer, bepaalt de thema’s waar we ov
 er in gesprek gaan. Je hoeft niets voor te bereiden. Samen ontdekken 
 we wat ons bezighoudt en waar het gesprek naartoe gaat. Je kunt het v
 olgende verwachten: <ul>  <li>Ruimte om met elkaar in gesprek te gaan
  over wat jou bezighoudt.</li>  <li>Gespreksgroepen onder begeleiding
  van ervaren dialoogfacilitatoren.</li>  <li>Ontmoeting tussen studen
 ten en medewerkers van verschillende faculteiten, diensten en achterg
 ronden.</li>  <li>Een gezamenlijke terugkoppeling van inzichten, zond
 er naamsvermelding of oordeel.</li></ul> Thema’s die in eerdere ses
 sie naar voren zijn gekomen: <ul>  <li>Courage in Education</li>  <li
 >Academic Freedom and the myth of political neutrality</li>  <li>Dive
 rsity &amp; Inclusion in Education en Research + Safety &amp; Accessi
 bility</li>  <li>Safety on Campus, police presence</li>  <li>Dialogue
  Mistrust in Science</li>  <li>Connection, Alienation &amp; Isolation
 </li></ul> <h3>Doe mee&nbsp;</h3> Jouw perspectief doet er toe. Of je
  nu student bent, onderzoeker, docent of medewerker, samen zorgen we 
 dat alle verhalen gehoord worden. Aan de VU willen we meer ruimte mak
 en voor échte gesprekken over thema’s als oorlog & vrede, academis
 che vrijheid en ons welzijn als gemeenschap? Schuif aan en praat mee 
 tijdens de tweede VU-brede dialoog ‘In Gesprek’ op 10 februari 20
 26.
END:VEVENT
END:VCALENDAR
