BEGIN:VCALENDAR
VERSION:2.0
PRODID:-//Vrije Universiteit Amsterdam//NONSGML v1.0//EN
NAME:Promotie R.S. Weller
METHOD:PUBLISH
BEGIN:VEVENT
DTSTART:20260528T134500
DTEND:20260528T151500
DTSTAMP:20260528T134500
UID:2026/promotie-r-s-weller@8F96275E-9F55-4B3F-A143-836282E12573
CREATED:20260422T192039
LOCATION:Hoofdgebouw, Aula De Boelelaan 
 1105 1081 HV  Amsterdam
SUMMARY:Promotie R.S. Weller
X-ALT-DESC;FMTTYPE=text/html: <html> <body> <p>Cold-induced vasodilati
 on</p> <p>Meer informatie over het proefschrift volgt</p> </body> </h
 tml>
DESCRIPTION: Meer informatie over het proefschrift volgt Cold-induced 
 vasodilation
END:VEVENT
END:VCALENDAR
