BEGIN:VCALENDAR
VERSION:2.0
PRODID:-//Vrije Universiteit Amsterdam//NONSGML v1.0//EN
NAME:Oratie prof.dr. R.B. Veenhuizen
METHOD:PUBLISH
BEGIN:VEVENT
DTSTART:20260528T154500
DTEND:20260528T171500
DTSTAMP:20260528T154500
UID:2026/oratie-prof-dr-r-b-veenhu@8F96275E-9F55-4B3F-A143-836282E12573
CREATED:20260423T210413
LOCATION:Hoofdgebouw, Aula De Boelelaan 
 1105 1081 HV  Amsterdam
SUMMARY:Oratie prof.dr. R.B. Veenhuizen
X-ALT-DESC;FMTTYPE=text/html: <html> <body> <p>Loss of a shared world<
 /p> <p>Meer informatie over de oratie volgt</p> </body> </html>
DESCRIPTION: Meer informatie over de oratie volgt Loss of a shared wor
 ld
END:VEVENT
END:VCALENDAR
