BEGIN:VCALENDAR
VERSION:2.0
PRODID:-//Vrije Universiteit Amsterdam//NONSGML v1.0//EN
NAME:Promotie T.A. Karagüzel
METHOD:PUBLISH
BEGIN:VEVENT
DTSTART:20260520T094500
DTEND:20260520T111500
DTSTAMP:20260520T094500
UID:2026/promotie-t-a-karaguzel@8F96275E-9F55-4B3F-A143-836282E12573
CREATED:20260426T010206
LOCATION:(1e verdieping) Auditorium, Hoofdgebouw De Boelelaan 1105 1081 HV Amsterdam
SUMMARY:Promotie T.A. Karagüzel
X-ALT-DESC;FMTTYPE=text/html: <html> <body> <p>You are my eyes!</p> <p
 >Meer informatie over het proefschrift volgt</p> </body> </html>
DESCRIPTION: Meer informatie over het proefschrift volgt You are my ey
 es!
END:VEVENT
END:VCALENDAR
