BEGIN:VCALENDAR
VERSION:2.0
PRODID:-//Vrije Universiteit Amsterdam//NONSGML v1.0//EN
NAME:Promotie L.P. Silvestrin
METHOD:PUBLISH
BEGIN:VEVENT
DTSTART:20260513T134500
DTEND:20260513T151500
DTSTAMP:20260513T134500
UID:2026/promotie-l-p-silvestrin@8F96275E-9F55-4B3F-A143-836282E12573
CREATED:20260423T054839
LOCATION:(1e verdieping) Auditorium, Hoofdgebouw De Boelelaan 1105 1081 HV Amsterdam
SUMMARY:Promotie L.P. Silvestrin
X-ALT-DESC;FMTTYPE=text/html: <html> <body> <p>Efficient Machine Learn
 ing for Time-Varying Data</p> <p>Meer informatie over het <a href="ht
 tps://hdl.handle.net/1871.1/05ea5664-a6a9-4364-afea-01f7edf89af3" dat
 a-new-window="true" target="_blank" rel="noopener noreferrer">proefsc
 hrift</a></p> </body> </html>
DESCRIPTION: Meer informatie over het <a href="https://hdl.handle.net/
 1871.1/05ea5664-a6a9-4364-afea-01f7edf89af3" data-new-window="true" t
 arget="_blank" rel="noopener noreferrer">proefschrift</a> Efficient M
 achine Learning for Time-Varying Data
END:VEVENT
END:VCALENDAR
