BEGIN:VCALENDAR
VERSION:2.0
PRODID:-//Vrije Universiteit Amsterdam//NONSGML v1.0//EN
NAME:Promotie A. Matano
METHOD:PUBLISH
BEGIN:VEVENT
DTSTART:20260529T114500
DTEND:20260529T131500
DTSTAMP:20260529T114500
UID:2026/promotie-a-matano@8F96275E-9F55-4B3F-A143-836282E12573
CREATED:20260423T054839
LOCATION:Hoofdgebouw, Aula De Boelelaan 
 1105 1081 HV  Amsterdam
SUMMARY:Promotie A. Matano
X-ALT-DESC;FMTTYPE=text/html: <html> <body> <p>From Drought to Flood</
 p> <p>Meer informatie over het proefschrift volgt</p> </body> </html>
DESCRIPTION: Meer informatie over het proefschrift volgt From Drought 
 to Flood
END:VEVENT
END:VCALENDAR
