BEGIN:VCALENDAR
VERSION:2.0
PRODID:-//Vrije Universiteit Amsterdam//NONSGML v1.0//EN
NAME:Promotie E.M. de Jong
METHOD:PUBLISH
BEGIN:VEVENT
DTSTART:20260216T134500
DTEND:20260216T151500
DTSTAMP:20260216T134500
UID:2026/promotie-e-m-de-jong@8F96275E-9F55-4B3F-A143-836282E12573
CREATED:20260423T043715
LOCATION:(1e verdieping) Auditorium, Hoofdgebouw De Boelelaan 1105 1081 HV Amsterdam
SUMMARY:Promotie E.M. de Jong
X-ALT-DESC;FMTTYPE=text/html: <html> <body> <p>All Eyes on the Problem
 </p> <h3>‘De kracht van een democratie ligt in haar problemen’</h
 3><p>Politici kiezen vaak voor een technocratische aanpak van complex
 e politieke problemen als de stikstofcrisis en klimaatverandering. Ze
  hopen dat experts met oplossingen komen. Een nadeel hiervan is dat b
 urgers zich niet gehoord voelen, en dat levert risico’s op voor de 
 democratie, stelt filosoof Egbert de Jong in zijn onderzoek.<br><a da
 ta-item-id="f29f0964-ee4e-4bb3-89c1-c6cfed30950a" href="/nl/nieuws/20
 26/de-kracht-van-een-democratie-ligt-in-haar-problemen">Lees verder</
 a></p><p>Meer informatie over het <a href="https://hdl.handle.net/187
 1.1/067c5a94-a4de-4a75-abdb-953c04f34de9" data-new-window="true" targ
 et="_blank" rel="noopener noreferrer">proefschrift</a></p> </body> </
 html>
DESCRIPTION: <h3>‘De kracht van een democratie ligt in haar probleme
 n’</h3> Politici kiezen vaak voor een technocratische aanpak van co
 mplexe politieke problemen als de stikstofcrisis en klimaatveranderin
 g. Ze hopen dat experts met oplossingen komen. Een nadeel hiervan is 
 dat burgers zich niet gehoord voelen, en dat levert risico’s op voo
 r de democratie, stelt filosoof Egbert de Jong in zijn onderzoek.<br>
 <a data-item-id="f29f0964-ee4e-4bb3-89c1-c6cfed30950a" href="/nl/nieu
 ws/2026/de-kracht-van-een-democratie-ligt-in-haar-problemen">Lees ver
 der</a> Meer informatie over het <a href="https://hdl.handle.net/1871
 .1/067c5a94-a4de-4a75-abdb-953c04f34de9" data-new-window="true" targe
 t="_blank" rel="noopener noreferrer">proefschrift</a> All Eyes on the
  Problem
END:VEVENT
END:VCALENDAR
