BEGIN:VCALENDAR
VERSION:2.0
PRODID:-//Vrije Universiteit Amsterdam//NONSGML v1.0//EN
NAME:Creatief Schrijven
METHOD:PUBLISH
BEGIN:VEVENT
DTSTART:20260218T180000
DTEND:20260218T220000
DTSTAMP:20260218T180000
UID:2026/3D-creative-writing-18-02@8F96275E-9F55-4B3F-A143-836282E12573
CREATED:20260421T194403
LOCATION:3D | VU Dialoogpodium De Boelelaan 1085 1081 HV Amsterdam
SUMMARY:Creatief Schrijven
X-ALT-DESC;FMTTYPE=text/html: <html> <body> <p>Tijdens onze sessie Cre
 atief Schrijven willen we een ruimte creëren waar mensen hun werk vr
 ijuit kunnen delen, bespreken en elkaar feedback kunnen geven!</p> <p
 >Alle info en het aanmeldformulier kan je vinden op onze <a href="htt
 ps://www.instagram.com/life.is.better.in.3d/" data-new-window="true" 
 target="_blank" rel="noopener noreferrer">Insta</a> of sluit je aan b
 ij onze WhatsApp groep! Als je geen Insta hebt, kan je je <a href="ht
 tps://linktr.ee/vu3d" data-new-window="true" target="_blank" rel="noo
 pener noreferrer">hier</a> aanmelden. Voor andere vragen kan je ons e
 en email sturen naar <a data-email-address="3D@vu.nl" href="mailto:3D
 @vu.nl">3D@vu.nl</a>.</p> </body> </html>
DESCRIPTION: Alle info en het aanmeldformulier kan je vinden op onze <
 a href="https://www.instagram.com/life.is.better.in.3d/" data-new-win
 dow="true" target="_blank" rel="noopener noreferrer">Insta</a> of slu
 it je aan bij onze WhatsApp groep! Als je geen Insta hebt, kan je je 
 <a href="https://linktr.ee/vu3d" data-new-window="true" target="_blan
 k" rel="noopener noreferrer">hier</a> aanmelden. Voor andere vragen k
 an je ons een email sturen naar <a data-email-address="3D@vu.nl" href
 ="mailto:3D@vu.nl">3D@vu.nl</a>. Tijdens onze sessie Creatief Schrijv
 en willen we een ruimte creëren waar mensen hun werk vrijuit kunnen 
 delen, bespreken en elkaar feedback kunnen geven!
END:VEVENT
END:VCALENDAR
