BEGIN:VCALENDAR
VERSION:2.0
PRODID:-//Vrije Universiteit Amsterdam//NONSGML v1.0//EN
NAME:Promotie W.J. Claassen
METHOD:PUBLISH
BEGIN:VEVENT
DTSTART:20260506T094500
DTEND:20260506T111500
DTSTAMP:20260506T094500
UID:2026/promotie-w-j-claassen@8F96275E-9F55-4B3F-A143-836282E12573
CREATED:20260423T071022
LOCATION:(1e verdieping) Auditorium, Hoofdgebouw De Boelelaan 1105 1081 HV Amsterdam
SUMMARY:Promotie W.J. Claassen
X-ALT-DESC;FMTTYPE=text/html: <html> <body> <p>Diaphragm weakness in m
 echanically ventilated patients: translational studies in intensive c
 are</p> <p>Meer informatie over het <a href="https://hdl.handle.net/1
 871.1/7a234283-3ea3-4392-9e42-503e8608baa5" data-new-window="true" ta
 rget="_blank" rel="noopener noreferrer">proefschrift</a></p> </body> 
 </html>
DESCRIPTION: Meer informatie over het <a href="https://hdl.handle.net/
 1871.1/7a234283-3ea3-4392-9e42-503e8608baa5" data-new-window="true" t
 arget="_blank" rel="noopener noreferrer">proefschrift</a> Diaphragm w
 eakness in mechanically ventilated patients: translational studies in
  intensive care
END:VEVENT
END:VCALENDAR
