BEGIN:VCALENDAR
VERSION:2.0
PRODID:-//Vrije Universiteit Amsterdam//NONSGML v1.0//EN
NAME:Informatievaardigheden 2: opzetten zoekstrategie
METHOD:PUBLISH
BEGIN:VEVENT
DTSTART:20260416T090000
DTEND:20260416T100000
DTSTAMP:20260416T090000
UID:2026/informatievaardigheden-2-@8F96275E-9F55-4B3F-A143-836282E12573
CREATED:20260422T004546
LOCATION:HG-1A-01B VU Hoofdgebouw
SUMMARY:Informatievaardigheden 2: opzetten zoekstrategie
X-ALT-DESC;FMTTYPE=text/html: <html> <body> <p>Leer een zoekstrategie 
 opzetten vanaf je onderwerpkeuze tot het uitvoeren van je strategie. 
 Welke stappen zijn handig, en waarop moet je letten. Het effectief le
 ren combineren van zoektermen hoort hierbij. </p> <p>De workshop is 
 ook geschikt als opfrisser.</p><p><strong>Je leert:</strong><br>•&n
 bsp; &nbsp; Een gefundeerde mening hebben over de beschikbaarheid van
  academische informatie<br>•&nbsp; &nbsp; De juiste bronnen selecte
 ren en beoordelen<br>•&nbsp; &nbsp; Welke criteria je helpen de bet
 rouwbaarheid (of belang) van informatie te bepalen<br>•&nbsp; &nbsp
 ; Een onderbouwde zoekstrategie opzetten en uitvoeren<br>•&nbsp; &n
 bsp; Het belang van goed documenteren van alles wat je doet (logboek)
 </p><p>Ben je al vaardig met zoekstrategieën, combineren en wil je d
 eze&nbsp; verbeteren?<br>Overweeg dan de&nbsp;<a href="https://vu-nl.
 libcal.com/calendar/universitylibrary?t=g&amp;q=informatievaardighede
 n%203&amp;cid=7052&amp;cal=7052&amp;inc=0">module 3</a>&nbsp;(reflect
 ie op en verbetering van je strategie) te volgen voor meer diepgaande
  informatie en advies.&nbsp;&nbsp;</p><p><strong>Certificaat</strong>
 <br>Wil je een Edubadge (online certificaat) verdienen? Om deze eduba
 dge te behalen, is de deelnemer verplicht om volledig en actief deel 
 te nemen aan modules 2 en of 3. Daarnaast moeten alle huiswerkopdrach
 ten zijn voltooid&nbsp;</p><p><strong>Aanbeveling</strong><br>"Het be
 spaart me tijd en moeite, terwijl ik geniet van het puzzelen en het u
 itvoeren van mijn literatuuronderzoek. Ik raad deze workshops aan, wa
 nt het is slechts een kleine maar zeer waardevolle investering voor d
 e rest van je studie en carrière." (Rianna Jonker)</p><p><strong>Rel
 ated&nbsp;LibGuide:&nbsp;</strong><a href="https://libguides.vu.nl/b-
 algemeen">Onderzoeksvaardigheden - Intermediate by Rian Kriesels</a><
 /p> </body> </html>
DESCRIPTION: De workshop is ook geschikt als opfrisser. <strong>Je lee
 rt:</strong><br>•&nbsp; &nbsp; Een gefundeerde mening hebben over d
 e beschikbaarheid van academische informatie<br>•&nbsp; &nbsp; De j
 uiste bronnen selecteren en beoordelen<br>•&nbsp; &nbsp; Welke crit
 eria je helpen de betrouwbaarheid (of belang) van informatie te bepal
 en<br>•&nbsp; &nbsp; Een onderbouwde zoekstrategie opzetten en uitv
 oeren<br>•&nbsp; &nbsp; Het belang van goed documenteren van alles 
 wat je doet (logboek) Ben je al vaardig met zoekstrategieën, combine
 ren en wil je deze&nbsp; verbeteren?<br>Overweeg dan de&nbsp;<a href=
 "https://vu-nl.libcal.com/calendar/universitylibrary?t=g&amp;q=inform
 atievaardigheden%203&amp;cid=7052&amp;cal=7052&amp;inc=0">module 3</a
 >&nbsp;(reflectie op en verbetering van je strategie) te volgen voor 
 meer diepgaande informatie en advies.&nbsp;&nbsp; <strong>Certificaat
 </strong><br>Wil je een Edubadge (online certificaat) verdienen? Om d
 eze edubadge te behalen, is de deelnemer verplicht om volledig en act
 ief deel te nemen aan modules 2 en of 3. Daarnaast moeten alle huiswe
 rkopdrachten zijn voltooid&nbsp; <strong>Aanbeveling</strong><br>"Het
  bespaart me tijd en moeite, terwijl ik geniet van het puzzelen en he
 t uitvoeren van mijn literatuuronderzoek. Ik raad deze workshops aan,
  want het is slechts een kleine maar zeer waardevolle investering voo
 r de rest van je studie en carrière." (Rianna Jonker) <strong>Relate
 d&nbsp;LibGuide:&nbsp;</strong><a href="https://libguides.vu.nl/b-alg
 emeen">Onderzoeksvaardigheden - Intermediate by Rian Kriesels</a> Lee
 r een zoekstrategie opzetten vanaf je onderwerpkeuze tot het uitvoere
 n van je strategie. Welke stappen zijn handig, en waarop moet je lett
 en. Het effectief leren combineren van zoektermen hoort hierbij. 
END:VEVENT
END:VCALENDAR
