BEGIN:VCALENDAR
VERSION:2.0
PRODID:-//Vrije Universiteit Amsterdam//NONSGML v1.0//EN
NAME:Afscheidsrede prof.dr. S. Legêne
METHOD:PUBLISH
BEGIN:VEVENT
DTSTART:20260220T154500
DTEND:20260220T171500
DTSTAMP:20260220T154500
UID:2026/afscheidsrede-prof-dr-s-l@8F96275E-9F55-4B3F-A143-836282E12573
CREATED:20260422T164540
LOCATION:Hoofdgebouw, Aula De Boelelaan 
 1105 1081 HV  Amsterdam
SUMMARY:Afscheidsrede prof.dr. S. Legêne
X-ALT-DESC;FMTTYPE=text/html: <html> <body> <p>(No) Peace with the Pas
 t: Politics of History Today</p> <h3>Waarom we verbeeldingskracht en 
 kritische geschiedschrijving nodig hebben in de politiek</h3><p><a hr
 ef="https://research.vu.nl/en/persons/susan-leg%C3%AAne/" data-new-wi
 ndow="true" target="_blank" rel="noopener noreferrer">Susan Legêne</
 a>, van 2008-2025 hoogleraar politieke geschiedenis, bespreekt in haa
 r afscheidsrede hoe overal om ons heen de geschiedenis wordt aangehaa
 ld in de hedendaagse politieke debatten, herdenkingspraktijken en erf
 goedinitiatieven. Geschiedenis wordt aangehaald als verklaring voor h
 et heden, als oproep tot actie, als uiting van verlangen naar een ver
 vlogen verleden, uit sympathie voor het autoritarisme van weleer of a
 ls waarschuwing om te voorkomen dat de geschiedenis zich herhaalt.</p
 ><p>In december 2025 verklaarde EU-voorzitter Ursula von der Leyen: �
 ��De vrede van gisteren is voorbij. We hebben geen tijd om ons over t
 e geven aan nostalgie. Waar het om gaat, is hoe we het heden tegemoet
  treden. We kunnen het ons niet veroorloven om ons te laten definiër
 en door de wereldbeelden van anderen.’ Maar wat definieert ons dan,
  welke ontwikkelingen uit het verleden bepalen de wereld van vandaag?
  In Ngũgĩ wa Thiong’o’s epische gedicht De volmaakte negen druk
 t Gĩkũyũ, de stamvader, een kernwaarde uit die ons allemaal zou mo
 eten definiëren: “Ieder mens is mens dankzij andere mensen.”<br>
 Lees verder in het nieuwsbericht</p><p>Beluister ook de podcast <a hr
 ef="https://open.spotify.com/episode/5yIusjeoA1AIR76jOGu0of?si=wglILx
 BcT2apHUP4I2WnEg&amp;nd=1&amp;dlsi=4faf4bdd2b2c48ec" data-new-window=
 "true" target="_blank" rel="noopener noreferrer">Met Groenteman in de
  kast</a>&nbsp;</p> </body> </html>
DESCRIPTION: <h3>Waarom we verbeeldingskracht en kritische geschiedsch
 rijving nodig hebben in de politiek</h3> <a href="https://research.vu
 .nl/en/persons/susan-leg%C3%AAne/" data-new-window="true" target="_bl
 ank" rel="noopener noreferrer">Susan Legêne</a>, van 2008-2025 hoogl
 eraar politieke geschiedenis, bespreekt in haar afscheidsrede hoe ove
 ral om ons heen de geschiedenis wordt aangehaald in de hedendaagse po
 litieke debatten, herdenkingspraktijken en erfgoedinitiatieven. Gesch
 iedenis wordt aangehaald als verklaring voor het heden, als oproep to
 t actie, als uiting van verlangen naar een vervlogen verleden, uit sy
 mpathie voor het autoritarisme van weleer of als waarschuwing om te v
 oorkomen dat de geschiedenis zich herhaalt. In december 2025 verklaar
 de EU-voorzitter Ursula von der Leyen: ‘De vrede van gisteren is vo
 orbij. We hebben geen tijd om ons over te geven aan nostalgie. Waar h
 et om gaat, is hoe we het heden tegemoet treden. We kunnen het ons ni
 et veroorloven om ons te laten definiëren door de wereldbeelden van 
 anderen.’ Maar wat definieert ons dan, welke ontwikkelingen uit het
  verleden bepalen de wereld van vandaag? In Ngũgĩ wa Thiong’o’s
  epische gedicht De volmaakte negen drukt Gĩkũyũ, de stamvader, ee
 n kernwaarde uit die ons allemaal zou moeten definiëren: “Ieder me
 ns is mens dankzij andere mensen.”<br>Lees verder in het nieuwsberi
 cht Beluister ook de podcast <a href="https://open.spotify.com/episod
 e/5yIusjeoA1AIR76jOGu0of?si=wglILxBcT2apHUP4I2WnEg&amp;nd=1&amp;dlsi=
 4faf4bdd2b2c48ec" data-new-window="true" target="_blank" rel="noopene
 r noreferrer">Met Groenteman in de kast</a>&nbsp; (No) Peace with the
  Past: Politics of History Today
END:VEVENT
END:VCALENDAR
