BEGIN:VCALENDAR
VERSION:2.0
PRODID:-//Vrije Universiteit Amsterdam//NONSGML v1.0//EN
NAME:Semester in Amsterdam online informatiesessie
METHOD:PUBLISH
BEGIN:VEVENT
DTSTART:20260211T150000
DTEND:20260211T160000
DTSTAMP:20260211T150000
UID:2026/semester-in-amsterdam-onl@8F96275E-9F55-4B3F-A143-836282E12573
CREATED:20260423T174022
LOCATION:Online bijeenkomst
SUMMARY:Semester in Amsterdam online informatiesessie
X-ALT-DESC;FMTTYPE=text/html: <html> <body> <p>Denk je als buitenlands
 e student erover om komend najaar in Amsterdam te studeren?</p> <p>Me
 ld je aan voor onze online informatiesessie voor potentiële Semester
  in Amsterdam studenten! Tijdens deze sessie stellen we het team aan 
 je voor en geven we je meer informatie over mogelijke studierichtinge
 n, het introductieprogramma, het studentenleven aan de VU, de huisves
 ting voor Semester in Amsterdam studenten, hoe je je kunt aanmelden e
 n nog veel meer! Kort na je inschrijving ontvang je een Zoomlink.<br>
 <br>Voor specifieke vragen kun je contact met ons opnemen via <a data
 -email-address="semesterinamsterdam@vu.nl" href="mailto:semesterinams
 terdam@vu.nl">semesterinamsterdam@vu.nl.</a><br><br>We hopen je daar 
 te zien!<br><br><em>Let op: het Semester in Amsterdamprogramma is spe
 cifiek bedoeld voor internationale studenten.&nbsp;</em></p> </body> 
 </html>
DESCRIPTION: Meld je aan voor onze online informatiesessie voor potent
 iële Semester in Amsterdam studenten! Tijdens deze sessie stellen we
  het team aan je voor en geven we je meer informatie over mogelijke s
 tudierichtingen, het introductieprogramma, het studentenleven aan de 
 VU, de huisvesting voor Semester in Amsterdam studenten, hoe je je ku
 nt aanmelden en nog veel meer! Kort na je inschrijving ontvang je een
  Zoomlink.<br><br>Voor specifieke vragen kun je contact met ons opnem
 en via <a data-email-address="semesterinamsterdam@vu.nl" href="mailto
 :semesterinamsterdam@vu.nl">semesterinamsterdam@vu.nl.</a><br><br>We 
 hopen je daar te zien!<br><br><em>Let op: het Semester in Amsterdampr
 ogramma is specifiek bedoeld voor internationale studenten.&nbsp;</em
 > Denk je als buitenlandse student erover om komend najaar in Amsterd
 am te studeren?
END:VEVENT
END:VCALENDAR
