BEGIN:VCALENDAR
VERSION:2.0
PRODID:-//Vrije Universiteit Amsterdam//NONSGML v1.0//EN
NAME:Promotie A.J.M. Bakx
METHOD:PUBLISH
BEGIN:VEVENT
DTSTART:20260529T094500
DTEND:20260529T111500
DTSTAMP:20260529T094500
UID:2026/promotie-a-j-m-bakx@8F96275E-9F55-4B3F-A143-836282E12573
CREATED:20260423T013421
LOCATION:Hoofdgebouw, Aula De Boelelaan 
 1105 1081 HV  Amsterdam
SUMMARY:Promotie A.J.M. Bakx
X-ALT-DESC;FMTTYPE=text/html: <html> <body> <p>Untangle DNA</p> <p>Mee
 r informatie over het proefschrift volgt</p> </body> </html>
DESCRIPTION: Meer informatie over het proefschrift volgt Untangle DNA
END:VEVENT
END:VCALENDAR
