BEGIN:VCALENDAR
VERSION:2.0
PRODID:-//Vrije Universiteit Amsterdam//NONSGML v1.0//EN
NAME:Promotie S.J. Willems
METHOD:PUBLISH
BEGIN:VEVENT
DTSTART:20260507T114500
DTEND:20260507T131500
DTSTAMP:20260507T114500
UID:2026/promotie-s-j-willems@8F96275E-9F55-4B3F-A143-836282E12573
CREATED:20260424T075601
LOCATION:Hoofdgebouw, Aula De Boelelaan 
 1105 1081 HV  Amsterdam
SUMMARY:Promotie S.J. Willems
X-ALT-DESC;FMTTYPE=text/html: <html> <body> <p>Personalised recovery p
 rediction following lumbar microdiscectomy and post-operative physiot
 herapy for patients with painful lumbar radiculopathy</p> <h3><strong
 >Geen ‘standaard herstel’ na hernia-operatie: onderzoek pleit voo
 r persoonlijke voorspellingen</strong></h3><p>Een operatie aan een he
 rnia in de onderrug biedt lang niet altijd de zekerheid op een voorsp
 oedig herstel. Dit blijkt uit het onderzoek van fysiotherapeut Stijn 
 Willems, die laat zien dat de verschillen tussen patiënten groot zij
 n – en dat dit vraagt om een veel persoonlijkere aanpak van zorg en
  voorlichting.<br>Lees verder in het <a data-item-id="6576b0bf-31a1-4
 7ee-ac90-68cbe793cdf7" href="/nl/nieuws/2026/geen-standaardherstel-na
 -hernia-operatie-pleidooi-voor-maatwerk">nieuwsbericht</a></p><p>Meer
  informatie over het <a href="https://hdl.handle.net/1871.1/25a48c66-
 301f-4cfb-8f7a-57bd83ffba95" data-new-window="true" target="_blank" r
 el="noopener noreferrer">proefschrift</a></p> </body> </html>
DESCRIPTION: <h3><strong>Geen ‘standaard herstel’ na hernia-operat
 ie: onderzoek pleit voor persoonlijke voorspellingen</strong></h3> Ee
 n operatie aan een hernia in de onderrug biedt lang niet altijd de ze
 kerheid op een voorspoedig herstel. Dit blijkt uit het onderzoek van 
 fysiotherapeut Stijn Willems, die laat zien dat de verschillen tussen
  patiënten groot zijn – en dat dit vraagt om een veel persoonlijke
 re aanpak van zorg en voorlichting.<br>Lees verder in het <a data-ite
 m-id="6576b0bf-31a1-47ee-ac90-68cbe793cdf7" href="/nl/nieuws/2026/gee
 n-standaardherstel-na-hernia-operatie-pleidooi-voor-maatwerk">nieuwsb
 ericht</a> Meer informatie over het <a href="https://hdl.handle.net/1
 871.1/25a48c66-301f-4cfb-8f7a-57bd83ffba95" data-new-window="true" ta
 rget="_blank" rel="noopener noreferrer">proefschrift</a> Personalised
  recovery prediction following lumbar microdiscectomy and post-operat
 ive physiotherapy for patients with painful lumbar radiculopathy
END:VEVENT
END:VCALENDAR
