BEGIN:VCALENDAR
VERSION:2.0
PRODID:-//Vrije Universiteit Amsterdam//NONSGML v1.0//EN
NAME:Promotie M. Thodé
METHOD:PUBLISH
BEGIN:VEVENT
DTSTART:20260506T114500
DTEND:20260506T131500
DTSTAMP:20260506T114500
UID:2026/promotie-m-thode@8F96275E-9F55-4B3F-A143-836282E12573
CREATED:20260424T134655
LOCATION:(1e verdieping) Auditorium, Hoofdgebouw De Boelelaan 1105 1081 HV Amsterdam
SUMMARY:Promotie M. Thodé
X-ALT-DESC;FMTTYPE=text/html: <html> <body> <p>Included</p> <p>Meer in
 formatie over het <a href="https://hdl.handle.net/1871.1/27c5b2d3-a55
 d-409e-b8ca-0d52cbfa803a" data-new-window="true" target="_blank" rel=
 "noopener noreferrer">proefschrift</a></p> </body> </html>
DESCRIPTION: Meer informatie over het <a href="https://hdl.handle.net/
 1871.1/27c5b2d3-a55d-409e-b8ca-0d52cbfa803a" data-new-window="true" t
 arget="_blank" rel="noopener noreferrer">proefschrift</a> Included
END:VEVENT
END:VCALENDAR
