BEGIN:VCALENDAR
VERSION:2.0
PRODID:-//Vrije Universiteit Amsterdam//NONSGML v1.0//EN
NAME:Promotie T.E. König
METHOD:PUBLISH
BEGIN:VEVENT
DTSTART:20260416T134500
DTEND:20260416T151500
DTSTAMP:20260416T134500
UID:2026/promotie-t-e-konig@8F96275E-9F55-4B3F-A143-836282E12573
CREATED:20260421T184322
LOCATION:Hoofdgebouw, Aula De Boelelaan 
 1105 1081 HV  Amsterdam
SUMMARY:Promotie T.E. König
X-ALT-DESC;FMTTYPE=text/html: <html> <body> <p>Ovarian responsiveness 
 to gonadotropins</p> <p>Meer informatie over het <a href="https://hdl
 .handle.net/1871.1/45d37537-db7c-4a91-89e3-cf58e248870b" data-new-win
 dow="true" target="_blank" rel="noopener noreferrer">proefschrift</a>
 </p> </body> </html>
DESCRIPTION: Meer informatie over het <a href="https://hdl.handle.net/
 1871.1/45d37537-db7c-4a91-89e3-cf58e248870b" data-new-window="true" t
 arget="_blank" rel="noopener noreferrer">proefschrift</a> Ovarian res
 ponsiveness to gonadotropins
END:VEVENT
END:VCALENDAR
