BEGIN:VCALENDAR
VERSION:2.0
PRODID:-//Vrije Universiteit Amsterdam//NONSGML v1.0//EN
NAME:PhD defence A. Galakhova
METHOD:PUBLISH
BEGIN:VEVENT
DTSTART:20260528T094500
DTEND:20260528T111500
DTSTAMP:20260528T094500
UID:2026/phd-defence-a-galakhova@8F96275E-9F55-4B3F-A143-836282E12573
CREATED:20260426T010206
LOCATION:Hoofdgebouw, Aula De Boelelaan 
 1105 1081 HV  Amsterdam
SUMMARY:PhD defence A. Galakhova
X-ALT-DESC;FMTTYPE=text/html: <html> <body> <p>Bridging cells to cogni
 tion: evolutionary adaptations in cortical microcircuits and their ge
 netic correlates</p> <p>More information on the <a href="https://hdl.
 handle.net/1871.1/2527022a-81c4-4e39-bd7a-d6c5f3a37ae2" data-new-wind
 ow="true" target="_blank" rel="noopener noreferrer">thesis</a></p> </
 body> </html>
DESCRIPTION: More information on the <a href="https://hdl.handle.net/1
 871.1/2527022a-81c4-4e39-bd7a-d6c5f3a37ae2" data-new-window="true" ta
 rget="_blank" rel="noopener noreferrer">thesis</a> Bridging cells to 
 cognition: evolutionary adaptations in cortical microcircuits and the
 ir genetic correlates
END:VEVENT
END:VCALENDAR
