BEGIN:VCALENDAR
VERSION:2.0
PRODID:-//Vrije Universiteit Amsterdam//NONSGML v1.0//EN
NAME:Honours Try Out Class VU&UvA Sem 1 courses 
METHOD:PUBLISH
BEGIN:VEVENT
DTSTART:20260603T180000
DTEND:20260603T210000
DTSTAMP:20260603T180000
UID:2026/honours-try-out-class-vu-@8F96275E-9F55-4B3F-A143-836282E12573
CREATED:20260421T175112
LOCATION:HG-KC07 VU Main Building De Boelelaan 1105 1081HV Amsterdam
SUMMARY:Honours Try Out Class VU&UvA Sem 1 courses 
X-ALT-DESC;FMTTYPE=text/html: <html> <body> <p>During the Try Out Clas
 s, all interested Honours students of the UvA and VU will be informed
  about the interfaculty honours courses of the UvA and VU in the firs
 t semester of 2026-2027.</p> <ul>  <ul>    <li><strong>Date:</strong>
 &nbsp;Wednesday, 3 June, 2026</li>    <li><strong>Time:</strong>&nbsp
 ;Walk in with soup at 17:30; Pitch presentations start at 18:15</li> 
    <li><strong>Location:</strong>&nbsp;De&nbsp;Boelelaan&nbsp;1105 | 
 1081&nbsp;HV&nbsp;Amsterdam | HG KC07</li>    <li><strong>For whom:</
 strong>&nbsp;All UvA and VU Honours students who want to register for
  a semester 1 interfaculty honours course 2026-2027&nbsp;</li>  </ul>
 </ul><h3><strong>This evening consists of these parts:</strong></h3><
 ul>  <ul>    <li><strong>Welcome:</strong>&nbsp;You are welcome from 
 17:30 onward. Feel welcome to enjoy some soup in the central hall bef
 ore the course presentations start. Doors of the lecture hall open at
  18:00.</li>    <li><strong>Presentations:</strong>&nbsp;The TOC star
 ts off with presentations of interfaculty UvA and VU honours courses,
  from 18:15 – 20:00.</li>    <li><strong>Information market:</stron
 g>&nbsp;Afterwards, there will be an information market where you can
  find information about all other interfaculty honours courses on off
 er. The information market will take place between 20:00 and 21:00.&n
 bsp;</li>    <li><strong>What is the Try Out Class? </strong><br>Prio
 r to the start of each semester, you can attend a Try Out Class where
  all the interfaculty Honours courses offered by UvA and VU are prese
 nted, allowing you to acquaint yourself with them before applying. An
 d after the Try Out Class? During the days following the Try Out Clas
 s, starting on&nbsp;<strong>Thursday morning 4 June at 10:00</strong>
 , you can register online for placement in courses of your preference
  by submitting the digital registration form on our website. <strong>
 The registration period for the Honours courses is from&nbsp;Thursday
  4 June, 10:00 to Tuesday 9 June, 23:59</strong>.&nbsp;</li>    <li><
 strong>Contact information</strong><br><em>UvA Honours:</em>&nbsp;And
 rea Manneke, Marleen van der Meer and&nbsp;Sjoerd Esschendal -&nbsp;<
 a href="mailto:honours-iis@uva.nl">honours-iis@uva.nl</a>&nbsp;<br><e
 m>U Honours:</em>&nbsp;Eva Meijerink, Joke Verwers and Gemma van der 
 Wal -&nbsp;<a href="mailto:honours@vu.nl">honours@vu.nl</a>&nbsp;<br>
 <em>AUC Honours:&nbsp;</em>Caroline Harteveld -&nbsp;<a href="mailto:
 servicedesk@auc.nl">servicedesk@auc.nl</a></li>  </ul></ul> </body> <
 /html>
DESCRIPTION: <ul>  <ul>    <li><strong>Date:</strong>&nbsp;Wednesday, 
 3 June, 2026</li>    <li><strong>Time:</strong>&nbsp;Walk in with sou
 p at 17:30; Pitch presentations start at 18:15</li>    <li><strong>Lo
 cation:</strong>&nbsp;De&nbsp;Boelelaan&nbsp;1105 | 1081&nbsp;HV&nbsp
 ;Amsterdam | HG KC07</li>    <li><strong>For whom:</strong>&nbsp;All 
 UvA and VU Honours students who want to register for a semester 1 int
 erfaculty honours course 2026-2027&nbsp;</li>  </ul></ul> <h3><strong
 >This evening consists of these parts:</strong></h3> <ul>  <ul>    <l
 i><strong>Welcome:</strong>&nbsp;You are welcome from 17:30 onward. F
 eel welcome to enjoy some soup in the central hall before the course 
 presentations start. Doors of the lecture hall open at 18:00.</li>   
  <li><strong>Presentations:</strong>&nbsp;The TOC starts off with pre
 sentations of interfaculty UvA and VU honours courses, from 18:15 –
  20:00.</li>    <li><strong>Information market:</strong>&nbsp;Afterwa
 rds, there will be an information market where you can find informati
 on about all other interfaculty honours courses on offer. The informa
 tion market will take place between 20:00 and 21:00.&nbsp;</li>    <l
 i><strong>What is the Try Out Class? </strong><br>Prior to the start 
 of each semester, you can attend a Try Out Class where all the interf
 aculty Honours courses offered by UvA and VU are presented, allowing 
 you to acquaint yourself with them before applying. And after the Try
  Out Class? During the days following the Try Out Class, starting on&
 nbsp;<strong>Thursday morning 4 June at 10:00</strong>, you can regis
 ter online for placement in courses of your preference by submitting 
 the digital registration form on our website. <strong>The registratio
 n period for the Honours courses is from&nbsp;Thursday 4 June, 10:00 
 to Tuesday 9 June, 23:59</strong>.&nbsp;</li>    <li><strong>Contact 
 information</strong><br><em>UvA Honours:</em>&nbsp;Andrea Manneke, Ma
 rleen van der Meer and&nbsp;Sjoerd Esschendal -&nbsp;<a href="mailto:
 honours-iis@uva.nl">honours-iis@uva.nl</a>&nbsp;<br><em>U Honours:</e
 m>&nbsp;Eva Meijerink, Joke Verwers and Gemma van der Wal -&nbsp;<a h
 ref="mailto:honours@vu.nl">honours@vu.nl</a>&nbsp;<br><em>AUC Honours
 :&nbsp;</em>Caroline Harteveld -&nbsp;<a href="mailto:servicedesk@auc
 .nl">servicedesk@auc.nl</a></li>  </ul></ul> During the Try Out Class
 , all interested Honours students of the UvA and VU will be informed 
 about the interfaculty honours courses of the UvA and VU in the first
  semester of 2026-2027.
END:VEVENT
END:VCALENDAR
