BEGIN:VCALENDAR
VERSION:2.0
PRODID:-//Vrije Universiteit Amsterdam//NONSGML v1.0//EN
NAME:ICSA 2026
METHOD:PUBLISH
BEGIN:VEVENT
DTSTART:20260622T000000
DTEND:20260626T235900
DTSTAMP:20260622T000000
UID:2026/icsa-2026@8F96275E-9F55-4B3F-A143-836282E12573
CREATED:20260421T170324
LOCATION:
SUMMARY:ICSA 2026
X-ALT-DESC;FMTTYPE=text/html: <html> <body> <p>The International Confe
 rence on Software Architecture (ICSA) is the premier venue for practi
 tioners and researchers interested in software architecture, in compo
 nent-based software engineering and in quality aspects of software an
 d how these relate to the design of software architectures.</p> <p>IC
 SA has a strong tradition as a working conference (previously named W
 orking International Conference on Software Architecture, WICSA), whe
 re researchers meet practitioners and software architects can explain
  the problems they face in their day-to-day work and try to influence
  the future of the field.</p><p>ICSA 2026 is scheduled to be held at 
 the&nbsp;<a href="https://vu.nl/en">Vrije Universiteit Amsterdam</a>,
  Netherlands, between the 22nd and the 26th of June 2026. Check out m
 ore about the history and past series of ICSA at&nbsp;<a href="https:
 //icsa-conferences.org/series/history/">https://icsa-conferences.org/
 series/history</a></p><p>To read more, click <a href="https://conf.re
 searchr.org/home/icsa-2026"><strong>here</strong></a>.</p> </body> </
 html>
DESCRIPTION: ICSA has a strong tradition as a working conference (prev
 iously named Working International Conference on Software Architectur
 e, WICSA), where researchers meet practitioners and software architec
 ts can explain the problems they face in their day-to-day work and tr
 y to influence the future of the field. ICSA 2026 is scheduled to be 
 held at the&nbsp;<a href="https://vu.nl/en">Vrije Universiteit Amster
 dam</a>, Netherlands, between the 22nd and the 26th of June 2026. Che
 ck out more about the history and past series of ICSA at&nbsp;<a href
 ="https://icsa-conferences.org/series/history/">https://icsa-conferen
 ces.org/series/history</a> To read more, click <a href="https://conf.
 researchr.org/home/icsa-2026"><strong>here</strong></a>. The Internat
 ional Conference on Software Architecture (ICSA) is the premier venue
  for practitioners and researchers interested in software architectur
 e, in component-based software engineering and in quality aspects of 
 software and how these relate to the design of software architectures
 .
END:VEVENT
END:VCALENDAR
