BEGIN:VCALENDAR
VERSION:2.0
PRODID:-//Vrije Universiteit Amsterdam//NONSGML v1.0//EN
NAME:Dealing effectively with change (Dutch)
METHOD:PUBLISH
BEGIN:VEVENT
DTSTART:20260622T090000
DTEND:20260622T163000
DTSTAMP:20260622T090000
UID:2026/dealing-effectively-with-@8F96275E-9F55-4B3F-A143-836282E12573
CREATED:20260421T185729
LOCATION:
SUMMARY:Dealing effectively with change (Dutch)
X-ALT-DESC;FMTTYPE=text/html: <html> <body> <p>Change is inevitable - 
 but how you deal with it is largely up to you. Whether it's reorganiz
 ations, new roles or changing priorities, in this training you'll lea
 rn how to move through change with more direction, resilience and con
 fidence.</p> <p>Organisational developments such as adjustments, cutb
 acks and new direction demand a lot from employees. They can create t
 ension, but also offer opportunities to take a position and exert inf
 luence. It is precisely in these periods that personal resilience, ow
 nership and dealing with uncertainty make the difference.</p><p><stro
 ng>About the training</strong><br>In this one-day, interactive traini
 ng you get practical tools not only to better handle change, but also
  to give it direction and meaning. You will explore what change does 
 to you, which patterns may hinder you and how you can influence this 
 yourself.</p><p><strong>What will you learn?</strong><br>During the t
 raining you will work with your personal triggers and discover which 
 values and identity roles are affected by change. Using targeted assi
 gnments, you will gain insight into your behaviour and learn how to b
 reak patterns.</p><p>You will go home with a personal compass: concre
 te tips and methodologies that will help you deal with change more st
 rongly and consciously.</p><p><strong>For whom</strong><br>For employ
 ees dealing with change and wanting to deal with it more effectively 
 and constructively.</p><p><a href="https://stichtingv.plateau.com/lea
 rning/user/deeplink.do?linkId=ITEM_DETAILS&amp;componentID=VU_CUR_202
 6_KV&amp;componentTypeID=CURSUS&amp;revisionDate=1774353600000#/B58C4
 CC4E95F34C219005C42AE4B74D7" data-new-window="true" target="_blank" r
 el="noopener noreferrer">Sign up</a>. <strong>Please note:</strong> d
 ue to a bug in the system, you may be redirected to the wrong page. I
 n that case, please <a href="https://services.vu.nl/esc?id=sc_cat_ite
 m&amp;sys_id=0cab227a1b7ce4105713a64f2e4bcb68&amp;sysparm_category=a4
 3bea3a1b7ce4105713a64f2e4bcbd2" data-new-window="true" target="_blank
 " rel="noopener noreferrer">log in to the Service Portal first</a>; t
 he registration link will then work. Alternatively, search for the tr
 aining course directly on the Service Portal.</p><p><strong>Team trai
 ning</strong><br>The training can also be followed in teams. Are you 
 interested? Then contact Carin Maas, <a href="http://mailto:learning_
 and_development@vu.nl">VU Learning &amp; Development</a>.</p> </body>
  </html>
DESCRIPTION: Organisational developments such as adjustments, cutbacks
  and new direction demand a lot from employees. They can create tensi
 on, but also offer opportunities to take a position and exert influen
 ce. It is precisely in these periods that personal resilience, owners
 hip and dealing with uncertainty make the difference. <strong>About t
 he training</strong><br>In this one-day, interactive training you get
  practical tools not only to better handle change, but also to give i
 t direction and meaning. You will explore what change does to you, wh
 ich patterns may hinder you and how you can influence this yourself. 
 <strong>What will you learn?</strong><br>During the training you will
  work with your personal triggers and discover which values and ident
 ity roles are affected by change. Using targeted assignments, you wil
 l gain insight into your behaviour and learn how to break patterns. Y
 ou will go home with a personal compass: concrete tips and methodolog
 ies that will help you deal with change more strongly and consciously
 . <strong>For whom</strong><br>For employees dealing with change and 
 wanting to deal with it more effectively and constructively. <a href=
 "https://stichtingv.plateau.com/learning/user/deeplink.do?linkId=ITEM
 _DETAILS&amp;componentID=VU_CUR_2026_KV&amp;componentTypeID=CURSUS&am
 p;revisionDate=1774353600000#/B58C4CC4E95F34C219005C42AE4B74D7" data-
 new-window="true" target="_blank" rel="noopener noreferrer">Sign up</
 a>. <strong>Please note:</strong> due to a bug in the system, you may
  be redirected to the wrong page. In that case, please <a href="https
 ://services.vu.nl/esc?id=sc_cat_item&amp;sys_id=0cab227a1b7ce4105713a
 64f2e4bcb68&amp;sysparm_category=a43bea3a1b7ce4105713a64f2e4bcbd2" da
 ta-new-window="true" target="_blank" rel="noopener noreferrer">log in
  to the Service Portal first</a>; the registration link will then wor
 k. Alternatively, search for the training course directly on the Serv
 ice Portal. <strong>Team training</strong><br>The training can also b
 e followed in teams. Are you interested? Then contact Carin Maas, <a 
 href="http://mailto:learning_and_development@vu.nl">VU Learning &amp;
  Development</a>. Change is inevitable - but how you deal with it is 
 largely up to you. Whether it's reorganizations, new roles or changin
 g priorities, in this training you'll learn how to move through chang
 e with more direction, resilience and confidence.
END:VEVENT
END:VCALENDAR
