BEGIN:VCALENDAR
VERSION:2.0
PRODID:-//Vrije Universiteit Amsterdam//NONSGML v1.0//EN
NAME:PhD defence G. Xu
METHOD:PUBLISH
BEGIN:VEVENT
DTSTART:20260408T134500
DTEND:20260408T151500
DTSTAMP:20260408T134500
UID:2026/phd-defence-g-xu@8F96275E-9F55-4B3F-A143-836282E12573
CREATED:20260421T170324
LOCATION:(1st floor) Auditorium, Main building De Boelelaan 1105 1081 HV Amsterdam
SUMMARY:PhD defence G. Xu
X-ALT-DESC;FMTTYPE=text/html: <html> <body> <p>Unraveling Chemoresista
 nce Mechanisms and Developing Targeted Strategies in Pancreatic and L
 ung Cancers</p> <p>More information on the <a href="https://hdl.handl
 e.net/1871.1/53628554-91c2-47b2-883e-28dd82d86dce" data-new-window="t
 rue" target="_blank" rel="noopener noreferrer">thesis</a></p> </body>
  </html>
DESCRIPTION: More information on the <a href="https://hdl.handle.net/1
 871.1/53628554-91c2-47b2-883e-28dd82d86dce" data-new-window="true" ta
 rget="_blank" rel="noopener noreferrer">thesis</a> Unraveling Chemore
 sistance Mechanisms and Developing Targeted Strategies in Pancreatic 
 and Lung Cancers
END:VEVENT
END:VCALENDAR
