BEGIN:VCALENDAR
VERSION:2.0
PRODID:-//Vrije Universiteit Amsterdam//NONSGML v1.0//EN
NAME:Valedictory speech prof.dr. A.R.J. Girbes
METHOD:PUBLISH
BEGIN:VEVENT
DTSTART:20260529T154500
DTEND:20260529T171500
DTSTAMP:20260529T154500
UID:2026/valedictory-speech-prof-d@8F96275E-9F55-4B3F-A143-836282E12573
CREATED:20260422T223910
LOCATION:Hoofdgebouw, Aula De Boelelaan 
 1105 1081 HV  Amsterdam
SUMMARY:Valedictory speech prof.dr. A.R.J. Girbes
X-ALT-DESC;FMTTYPE=text/html: <html> <body> <p>Alles draait om IC, Int
 egriteit en Competentie</p> <h3>The Importance of Integrity and Compe
 tence as Truly Value-Driven Care</h3><p>Professor of Intensive Care M
 edicine and Clinical Pharmacologist Armand Girbes says in his farewel
 l address: "From my early years as a physician, I made one inner prom
 ise: never do anything on orders that you do not stand behind with su
 bstantiated arguments. Arguments and knowledge take precedence over h
 ierarchy, self-interest, and politics; patient interest as the gold s
 tandard. True value-driven care. Intensive Care is holistic medicine 
 and flourishes best in a complete, non-fragmented hospital. With good
  patient care, space for education, training, and research arises nat
 urally. With the support of the then Executive Board and the Head of 
 Surgery, we developed the VUmc IC into one large department: 24/7 spe
 cialized care, a dual medical-nursing leadership structure, simulatio
 n and ECHO training, and genuine attention for families. Teamwork and
  a culture of mutual accountability formed the foundation. The Amster
 dam reorganization/merger clashed with the holistic approach. The fac
 t that the holistic approach is now possible again is satisfying, now
  that the Executive Board is once again openly speaking about everyth
 ing in one." bring building."</p> </body> </html>
DESCRIPTION: <h3>The Importance of Integrity and Competence as Truly V
 alue-Driven Care</h3> Professor of Intensive Care Medicine and Clinic
 al Pharmacologist Armand Girbes says in his farewell address: "From m
 y early years as a physician, I made one inner promise: never do anyt
 hing on orders that you do not stand behind with substantiated argume
 nts. Arguments and knowledge take precedence over hierarchy, self-int
 erest, and politics; patient interest as the gold standard. True valu
 e-driven care. Intensive Care is holistic medicine and flourishes bes
 t in a complete, non-fragmented hospital. With good patient care, spa
 ce for education, training, and research arises naturally. With the s
 upport of the then Executive Board and the Head of Surgery, we develo
 ped the VUmc IC into one large department: 24/7 specialized care, a d
 ual medical-nursing leadership structure, simulation and ECHO trainin
 g, and genuine attention for families. Teamwork and a culture of mutu
 al accountability formed the foundation. The Amsterdam reorganization
 /merger clashed with the holistic approach. The fact that the holisti
 c approach is now possible again is satisfying, now that the Executiv
 e Board is once again openly speaking about everything in one." bring
  building." Alles draait om IC, Integriteit en Competentie
END:VEVENT
END:VCALENDAR
