BEGIN:VCALENDAR
VERSION:2.0
PRODID:-//Vrije Universiteit Amsterdam//NONSGML v1.0//EN
NAME:Opening Academic Year
METHOD:PUBLISH
BEGIN:VEVENT
DTSTART:20260831T000000
DTEND:20260831T235900
DTSTAMP:20260831T000000
UID:2026/oay-2026-2027@8F96275E-9F55-4B3F-A143-836282E12573
CREATED:20260423T054839
LOCATION:Hoofdgebouw, Aula De Boelelaan 
 1105 1081 HV  Amsterdam
SUMMARY:Opening Academic Year
X-ALT-DESC;FMTTYPE=text/html: <html> <body> <p>The new academic year a
 t VU Amsterdam will kick off on Monday 31 August with the Opening Aca
 demic Year. </p> <p>You are welcome to celebrate the start of the new
  academic year with us! More information will follow soon.</p> </body
 > </html>
DESCRIPTION: You are welcome to celebrate the start of the new academi
 c year with us! More information will follow soon. The new academic y
 ear at VU Amsterdam will kick off on Monday 31 August with the Openin
 g Academic Year. 
END:VEVENT
END:VCALENDAR
