BEGIN:VCALENDAR
VERSION:2.0
PRODID:-//Vrije Universiteit Amsterdam//NONSGML v1.0//EN
NAME:PhD defence A.J. de Groot
METHOD:PUBLISH
BEGIN:VEVENT
DTSTART:20260225T134500
DTEND:20260225T151500
DTSTAMP:20260225T134500
UID:2026/phd-defence-a-j-de-groot@8F96275E-9F55-4B3F-A143-836282E12573
CREATED:20260423T142653
LOCATION:(1st floor) Auditorium, Main building De Boelelaan 1105 1081 HV Amsterdam
SUMMARY:PhD defence A.J. de Groot
X-ALT-DESC;FMTTYPE=text/html: <html> <body> <p>Referral to geriatric r
 ehabilitation</p> <p>More information on the <a href="https://hdl.han
 dle.net/1871.1/160f532c-b71d-4dbb-bab0-5964302172e0" data-new-window=
 "true" target="_blank" rel="noopener noreferrer">thesis</a></p> </bod
 y> </html>
DESCRIPTION: More information on the <a href="https://hdl.handle.net/1
 871.1/160f532c-b71d-4dbb-bab0-5964302172e0" data-new-window="true" ta
 rget="_blank" rel="noopener noreferrer">thesis</a> Referral to geriat
 ric rehabilitation
END:VEVENT
END:VCALENDAR
