BEGIN:VCALENDAR
VERSION:2.0
PRODID:-//Vrije Universiteit Amsterdam//NONSGML v1.0//EN
NAME:PhD defence L.N.C. Boyd
METHOD:PUBLISH
BEGIN:VEVENT
DTSTART:20260522T114500
DTEND:20260522T131500
DTSTAMP:20260522T114500
UID:2026/phd-defence-l-n-c-boyd@8F96275E-9F55-4B3F-A143-836282E12573
CREATED:20260422T164542
LOCATION:Hoofdgebouw, Aula De Boelelaan 
 1105 1081 HV  Amsterdam
SUMMARY:PhD defence L.N.C. Boyd
X-ALT-DESC;FMTTYPE=text/html: <html> <body> <p>Blood-based biomarkers 
 for patients with pancreatic and biliary tract cancer</p> <p>More inf
 ormation on the <a href="https://hdl.handle.net/1871.1/52624e01-99ff-
 4319-89bd-13a79b19c9f0" data-new-window="true" target="_blank" rel="n
 oopener noreferrer">thesis</a></p> </body> </html>
DESCRIPTION: More information on the <a href="https://hdl.handle.net/1
 871.1/52624e01-99ff-4319-89bd-13a79b19c9f0" data-new-window="true" ta
 rget="_blank" rel="noopener noreferrer">thesis</a> Blood-based biomar
 kers for patients with pancreatic and biliary tract cancer
END:VEVENT
END:VCALENDAR
