BEGIN:VCALENDAR
VERSION:2.0
PRODID:-//Vrije Universiteit Amsterdam//NONSGML v1.0//EN
NAME:PhD defence S. Magaya
METHOD:PUBLISH
BEGIN:VEVENT
DTSTART:20260528T114500
DTEND:20260528T131500
DTSTAMP:20260528T114500
UID:2026/phd-defence-s-magaya@8F96275E-9F55-4B3F-A143-836282E12573
CREATED:20260425T172104
LOCATION:Hoofdgebouw, Aula De Boelelaan 
 1105 1081 HV  Amsterdam
SUMMARY:PhD defence S. Magaya
X-ALT-DESC;FMTTYPE=text/html: <html> <body> <p>Crystals and Manure for
  Food</p> <p>More information on the <a href="https://hdl.handle.net/
 1871.1/1243a5b7-5fb6-478b-8aba-ef5974095064" data-new-window="true" t
 arget="_blank" rel="noopener noreferrer">thesis</a></p> </body> </htm
 l>
DESCRIPTION: More information on the <a href="https://hdl.handle.net/1
 871.1/1243a5b7-5fb6-478b-8aba-ef5974095064" data-new-window="true" ta
 rget="_blank" rel="noopener noreferrer">thesis</a> Crystals and Manur
 e for Food
END:VEVENT
END:VCALENDAR
