BEGIN:VCALENDAR
VERSION:2.0
PRODID:-//Vrije Universiteit Amsterdam//NONSGML v1.0//EN
NAME:Inaugural lecture prof.dr. A. Thijs
METHOD:PUBLISH
BEGIN:VEVENT
DTSTART:20260508T154500
DTEND:20260508T171500
DTSTAMP:20260508T154500
UID:2026/inaugural-lecture-prof-dr@8F96275E-9F55-4B3F-A143-836282E12573
CREATED:20260423T013305
LOCATION:Hoofdgebouw, Aula De Boelelaan 
 1105 1081 HV  Amsterdam
SUMMARY:Inaugural lecture prof.dr. A. Thijs
X-ALT-DESC;FMTTYPE=text/html: <html> <body> <p>pontifex</p> <p>More in
 formation on the inaugural lecture follows</p> </body> </html>
DESCRIPTION: More information on the inaugural lecture follows pontife
 x
END:VEVENT
END:VCALENDAR
