BEGIN:VCALENDAR
VERSION:2.0
PRODID:-//Vrije Universiteit Amsterdam//NONSGML v1.0//EN
NAME:VU Compliance Symposium 2026
METHOD:PUBLISH
BEGIN:VEVENT
DTSTART:20260619T120000
DTEND:20260619T183000
DTSTAMP:20260619T120000
UID:2026/vu-compliance-symposium-2@8F96275E-9F55-4B3F-A143-836282E12573
CREATED:20260423T012604
LOCATION:Auditorium - Main Building VU Amsterdam De Boelelaan 
 1105 1081 HV  AMSTERDAM
SUMMARY:VU Compliance Symposium 2026
X-ALT-DESC;FMTTYPE=text/html: <html> <body> <p>VU Compliance Symposium
  2026</p> <h3><strong>In Turbulent Times Compliance Counts!&nbsp;</st
 rong></h3><p><em>In cooperation with the journal Compliance, Ethics &
 amp; Sustainability (CES).&nbsp;</em></p><p>Increased geopolitical te
 nsions, expanding sanctions regimes, and rapid technological change a
 re profoundly reshaping compliance and integrity risks for organisati
 ons operating across borders. Companies face growing exposure to thir
 d-party misconduct, cyber vulnerabilities, disrupted supply chains, a
 nd restrictions on data and technology.</p><p>This symposium examines
  how legal, compliance, and risk professionals can reinforce integrit
 y, trust, and resilience in an increasingly volatile and fragmented e
 nvironment. This symposium is organised by the CIM/FEC-programme in c
 ollaboration with the journal Compliance, Ethics &amp; Sustainability
  (CES), De Brauw Blackstone Westbroek, PwC and VCO.</p><p>This sympos
 ium meets the requirements for 3 Permanent Education points.</p><p>Th
 e participation fee is € 40,-. All proceeds will be donated to <a h
 ref="https://www.artsenzondergrenzen.nl/">Artsen zonder Grenzen</a>.<
 /p><p>We look forward to seeing you!</p><p>Birgit Snijder - <a href="
 https://portal.denhollander.info/magazines/detail/3/Compliance">Journ
 al Compliance, Ethics &amp; Sustainability</a><br>Esther van Hoek - <
 a href="https://www.vco.nl/">VCO</a><br>Saba Ullah - <a href="https:/
 /www.pwc.nl/en.html">PWC</a><br>Marnix Somsen - <a href="https://www.
 debrauw.com/">De Brauw Blackstone Westbroek</a><br>Tom Loonen - <a hr
 ef="https://vu.nl/en/education/professionals/courses-programmes/compl
 iance-integrity-management">Executive Master of Compliance &amp; Inte
 grity Management (CIM)</a>, <a href="https://vu.nl/en/education/profe
 ssionals/courses-programmes/fec-risk-expert">Financial Economic Crime
  - Risk Expert (FEC)</a></p> </body> </html>
DESCRIPTION: <h3><strong>In Turbulent Times Compliance Counts!&nbsp;</
 strong></h3> <em>In cooperation with the journal Compliance, Ethics &
 amp; Sustainability (CES).&nbsp;</em> Increased geopolitical tensions
 , expanding sanctions regimes, and rapid technological change are pro
 foundly reshaping compliance and integrity risks for organisations op
 erating across borders. Companies face growing exposure to third-part
 y misconduct, cyber vulnerabilities, disrupted supply chains, and res
 trictions on data and technology. This symposium examines how legal, 
 compliance, and risk professionals can reinforce integrity, trust, an
 d resilience in an increasingly volatile and fragmented environment. 
 This symposium is organised by the CIM/FEC-programme in collaboration
  with the journal Compliance, Ethics &amp; Sustainability (CES), De B
 rauw Blackstone Westbroek, PwC and VCO. This symposium meets the requ
 irements for 3 Permanent Education points. The participation fee is �
 �� 40,-. All proceeds will be donated to <a href="https://www.artsenz
 ondergrenzen.nl/">Artsen zonder Grenzen</a>. We look forward to seein
 g you! Birgit Snijder - <a href="https://portal.denhollander.info/mag
 azines/detail/3/Compliance">Journal Compliance, Ethics &amp; Sustaina
 bility</a><br>Esther van Hoek - <a href="https://www.vco.nl/">VCO</a>
 <br>Saba Ullah - <a href="https://www.pwc.nl/en.html">PWC</a><br>Marn
 ix Somsen - <a href="https://www.debrauw.com/">De Brauw Blackstone We
 stbroek</a><br>Tom Loonen - <a href="https://vu.nl/en/education/profe
 ssionals/courses-programmes/compliance-integrity-management">Executiv
 e Master of Compliance &amp; Integrity Management (CIM)</a>, <a href=
 "https://vu.nl/en/education/professionals/courses-programmes/fec-risk
 -expert">Financial Economic Crime - Risk Expert (FEC)</a> VU Complian
 ce Symposium 2026
END:VEVENT
END:VCALENDAR
