BEGIN:VCALENDAR
VERSION:2.0
PRODID:-//Vrije Universiteit Amsterdam//NONSGML v1.0//EN
NAME:ERC general information session
METHOD:PUBLISH
BEGIN:VEVENT
DTSTART:20260309T100000
DTEND:20260309T113000
DTSTAMP:20260309T100000
UID:2026/erc-general-information-s@8F96275E-9F55-4B3F-A143-836282E12573
CREATED:20260422T162717
LOCATION:Agora 1  VU Main Building 1081HV Amsterdam
SUMMARY:ERC general information session
X-ALT-DESC;FMTTYPE=text/html: <html> <body> <p>Interested to learn mor
 e about the ERC grant? Then this information session is for you!  </p
 > <p>On Monday March 9, IXA-GO is organizing, in collaboration with R
 VO, a general information session on the prestigious and competitive 
 ERC grant.&nbsp;</p><p>The <a href="https://erc.europa.eu/homepage" d
 ata-new-window="true" title="website ERC" target="_blank" rel="noopen
 er noreferrer">ERC grant</a> is a grant funded by the European Resear
 ch Council (ERC) of the European Commission. They offer three persona
 l grant types:</p><ul>  <li><strong>Starting Grant</strong>: for earl
 y career stage scientists with 0-10 years of experience since complet
 ion of PhD;</li>  <li><strong>Consolidator Grant</strong>: for scient
 ists who want to establish a research team and have 5-15 years of exp
 erience since completion of PhD;</li>  <li><strong>Advanced Grant</st
 rong>: for exceptional leaders in terms of originality and significan
 ce of their research contributions.&nbsp;</li></ul><p>This informatio
 n session specifically targets the researchers eligible for <strong>S
 tarting and Consolidator grant.</strong> However, researchers eligble
  for the Advanced grant (and new to ERC) are of course also welcome t
 o join.&nbsp;</p><p>For this session we invite our national contact p
 oint RVO (The Dutch Enterprise Agency) to inform us about the criteri
 a and procedure in general and update us about the recent changes. Af
 ter following this session you will know if your CV, career stage and
  project idea are a good match for one of the ERC personal grants.</p
 ><p>This session is the kick-off of our internal ERC StG Training Pro
 gramme. Please contact us and the head of your department if you woul
 d like to know more about joining this Training Programme and/or if y
 ou are planning to submit an ERC grant.&nbsp;</p><p>IXA-GO, VU Grants
  Office e-mail: <a data-email-address="subsidiedesk@vu.nl" data-email
 -subject="e-mail IXA-GO, VU Grants Office" href="mailto:subsidiedesk@
 vu.nl?subject=e-mail%20IXA-GO%2C%20VU%20Grants%20Office">subsidiedesk
 @vu.nl </a>&nbsp;&nbsp;&nbsp;&nbsp;&nbsp;</p> </body> </html>
DESCRIPTION: On Monday March 9, IXA-GO is organizing, in collaboration
  with RVO, a general information session on the prestigious and compe
 titive ERC grant.&nbsp; The <a href="https://erc.europa.eu/homepage" 
 data-new-window="true" title="website ERC" target="_blank" rel="noope
 ner noreferrer">ERC grant</a> is a grant funded by the European Resea
 rch Council (ERC) of the European Commission. They offer three person
 al grant types: <ul>  <li><strong>Starting Grant</strong>: for early 
 career stage scientists with 0-10 years of experience since completio
 n of PhD;</li>  <li><strong>Consolidator Grant</strong>: for scientis
 ts who want to establish a research team and have 5-15 years of exper
 ience since completion of PhD;</li>  <li><strong>Advanced Grant</stro
 ng>: for exceptional leaders in terms of originality and significance
  of their research contributions.&nbsp;</li></ul> This information se
 ssion specifically targets the researchers eligible for <strong>Start
 ing and Consolidator grant.</strong> However, researchers eligble for
  the Advanced grant (and new to ERC) are of course also welcome to jo
 in.&nbsp; For this session we invite our national contact point RVO (
 The Dutch Enterprise Agency) to inform us about the criteria and proc
 edure in general and update us about the recent changes. After follow
 ing this session you will know if your CV, career stage and project i
 dea are a good match for one of the ERC personal grants. This session
  is the kick-off of our internal ERC StG Training Programme. Please c
 ontact us and the head of your department if you would like to know m
 ore about joining this Training Programme and/or if you are planning 
 to submit an ERC grant.&nbsp; IXA-GO, VU Grants Office e-mail: <a dat
 a-email-address="subsidiedesk@vu.nl" data-email-subject="e-mail IXA-G
 O, VU Grants Office" href="mailto:subsidiedesk@vu.nl?subject=e-mail%2
 0IXA-GO%2C%20VU%20Grants%20Office">subsidiedesk@vu.nl </a>&nbsp;&nbsp
 ;&nbsp;&nbsp;&nbsp; Interested to learn more about the ERC grant? The
 n this information session is for you!  
END:VEVENT
END:VCALENDAR
