BEGIN:VCALENDAR
VERSION:2.0
PRODID:-//Vrije Universiteit Amsterdam//NONSGML v1.0//EN
NAME:ABRI PhD Day 2026
METHOD:PUBLISH
BEGIN:VEVENT
DTSTART:20260416T090000
DTEND:20260416T170000
DTSTAMP:20260416T090000
UID:2026/abri-phd-day-2026@8F96275E-9F55-4B3F-A143-836282E12573
CREATED:20260423T185429
LOCATION:VU Campus
SUMMARY:ABRI PhD Day 2026
X-ALT-DESC;FMTTYPE=text/html: <html> <body> <p>It is our pleasure to i
 nvite you to the annual ABRI PhD Day, which will take place on Thursd
 ay, April 16th 2026. The program will start at 9:00 with coffee and t
 ea in the Kerkzaal (HG-16A00) , and we will close the day in an infor
 mal way with drinks around 17:00 (program will be shared later this y
 ear). Lunch will be included. </p> <p>During the PhD day, both full-
 time and executive ABRI PhD candidates will present their work in pro
 gress. In doing so, our PhDs will demonstrate what is new and excitin
 g in their research, and in return will receive constructive feedback
  on their work from senior faculty members and colleagues.&nbsp;</p><
 p>This will be a great occasion to celebrate the progress that these 
 PhD candidates have made so far, to give feedback on their work in pr
 ogress, and to strengthen our multidisciplinary research community.&n
 bsp;</p><p>The ABRI PhD day will take place on April 16th, 2026, in r
 ooms HG-16A00 (main room) and HG-14A33 (break out sessions), between 
 09:00-17:00. You are invited to join for the whole day or part of the
  day. The detailed program will be shared once we have confirmed all 
 presenters and discussants. <br> <br>You can either register upon rec
 eiving the detailed schedule or register by replying to your emailed 
 invitation.<br> &nbsp;<br>Save the date! ABRI is looking forward to s
 eeing you all there!</p> </body> </html>
DESCRIPTION: During the PhD day, both full-time and executive ABRI PhD
  candidates will present their work in progress. In doing so, our PhD
 s will demonstrate what is new and exciting in their research, and in
  return will receive constructive feedback on their work from senior 
 faculty members and colleagues.&nbsp; This will be a great occasion t
 o celebrate the progress that these PhD candidates have made so far, 
 to give feedback on their work in progress, and to strengthen our mul
 tidisciplinary research community.&nbsp; The ABRI PhD day will take p
 lace on April 16th, 2026, in rooms HG-16A00 (main room) and HG-14A33 
 (break out sessions), between 09:00-17:00. You are invited to join fo
 r the whole day or part of the day. The detailed program will be shar
 ed once we have confirmed all presenters and discussants. <br> <br>Yo
 u can either register upon receiving the detailed schedule or registe
 r by replying to your emailed invitation.<br> &nbsp;<br>Save the date
 ! ABRI is looking forward to seeing you all there! It is our pleasure
  to invite you to the annual ABRI PhD Day, which will take place on T
 hursday, April 16th 2026. The program will start at 9:00 with coffee 
 and tea in the Kerkzaal (HG-16A00) , and we will close the day in an 
 informal way with drinks around 17:00 (program will be shared later t
 his year). Lunch will be included. 
END:VEVENT
END:VCALENDAR
