BEGIN:VCALENDAR
VERSION:2.0
PRODID:-//Vrije Universiteit Amsterdam//NONSGML v1.0//EN
NAME:Inaugural lecture prof.dr. O.O. Versolato
METHOD:PUBLISH
BEGIN:VEVENT
DTSTART:20260507T154500
DTEND:20260507T171500
DTSTAMP:20260507T154500
UID:2026/inaugural-lecture-prof-dr@8F96275E-9F55-4B3F-A143-836282E12573
CREATED:20260424T183338
LOCATION:Hoofdgebouw, Aula De Boelelaan 
 1105 1081 HV  Amsterdam
SUMMARY:Inaugural lecture prof.dr. O.O. Versolato
X-ALT-DESC;FMTTYPE=text/html: <html> <body> <p>Turning Metal into Ligh
 t: The Story of EUV Plasma</p> <p>Microchips are found in everything 
 around us, and to make them ever smaller, more powerful, and more eff
 icient, we need extremely precise light. Professor of EUV Plasma Proc
 esses Oscar Versolato and his research group are investigating how th
 ey can generate this special, extremely ultraviolet light by converti
 ng microscopic droplets of molten tin into a kind of mini sun: a hot 
 plasma that emits bright light.</p><p>We study the physics behind tha
 t process, from the basic principles to the eventual application in a
 dvanced machines that ‘print’ microchips. In doing so, we contrib
 ute to new technology made possible by collaboration between academia
 , government, and industry.</p> </body> </html>
DESCRIPTION: Microchips are found in everything around us, and to make
  them ever smaller, more powerful, and more efficient, we need extrem
 ely precise light. Professor of EUV Plasma Processes Oscar Versolato 
 and his research group are investigating how they can generate this s
 pecial, extremely ultraviolet light by converting microscopic droplet
 s of molten tin into a kind of mini sun: a hot plasma that emits brig
 ht light. We study the physics behind that process, from the basic pr
 inciples to the eventual application in advanced machines that ‘pri
 nt’ microchips. In doing so, we contribute to new technology made p
 ossible by collaboration between academia, government, and industry. 
 Turning Metal into Light: The Story of EUV Plasma
END:VEVENT
END:VCALENDAR
